BEGIN:VCALENDAR
VERSION:2.0
PRODID:-//Freiwilligenzentrum Markt H&ouml;chberg - ECPv6.15.20//NONSGML v1.0//EN
CALSCALE:GREGORIAN
METHOD:PUBLISH
X-WR-CALNAME:Freiwilligenzentrum Markt H&ouml;chberg
X-ORIGINAL-URL:https://xn--wirfrhchberg-9ib5f.de
X-WR-CALDESC:Veranstaltungen für Freiwilligenzentrum Markt H&ouml;chberg
REFRESH-INTERVAL;VALUE=DURATION:PT1H
X-Robots-Tag:noindex
X-PUBLISHED-TTL:PT1H
BEGIN:VTIMEZONE
TZID:UTC
BEGIN:STANDARD
TZOFFSETFROM:+0000
TZOFFSETTO:+0000
TZNAME:UTC
DTSTART:20250101T000000
END:STANDARD
END:VTIMEZONE
BEGIN:VEVENT
DTSTART;TZID=UTC:20260617T170000
DTEND;TZID=UTC:20260617T190000
DTSTAMP:20260422T190721
CREATED:20260421T063244Z
LAST-MODIFIED:20260421T064415Z
UID:4495-1781715600-1781722800@xn--wirfrhchberg-9ib5f.de
SUMMARY:offene Fahrradwerkstatt - mit Matze und Jan
DESCRIPTION:Die offene Fahrradwerkstatt öffnet für euch ihre Pforten! \nZeigt uns\, das ihr dieses Projekt toll findet und kommt mit eurem Fahrrad zu den offenen Tagen vorbei. Lasst euch von den freiwilligen Werkstattleitern zeigen\, wie ihr euer Fahrrad herrichten könnt.
URL:https://xn--wirfrhchberg-9ib5f.de/veranstaltungen/offene-fahrradwerkstatt-mit-matze-und-jan-2/
LOCATION:JUZ Garage\, Rudolf Harbig Platz 3\, JUZ Garage
ATTACH;FMTTYPE=image/jpeg:https://xn--wirfrhchberg-9ib5f.de/wp-content/uploads/2026/04/WhatsApp-Image-2026-04-17-at-09.16.50.jpeg
END:VEVENT
BEGIN:VEVENT
DTSTART;TZID=UTC:20260622T130000
DTEND;TZID=UTC:20260622T160000
DTSTAMP:20260422T190721
CREATED:20260421T063206Z
LAST-MODIFIED:20260421T064355Z
UID:4493-1782133200-1782144000@xn--wirfrhchberg-9ib5f.de
SUMMARY:offene Fahrradwerkstatt - mit HaPe und Thomas
DESCRIPTION:Die offene Fahrradwerkstatt öffnet für euch ihre Pforten! \nZeigt uns\, das ihr dieses Projekt toll findet und kommt mit eurem Fahrrad zu den offenen Tagen vorbei. Lasst euch von den freiwilligen Werkstattleitern zeigen\, wie ihr euer Fahrrad herrichten könnt.
URL:https://xn--wirfrhchberg-9ib5f.de/veranstaltungen/offene-fahrradwerkstatt-mit-hape-und-thomas-2/
LOCATION:JUZ Garage\, Rudolf Harbig Platz 3\, JUZ Garage
ATTACH;FMTTYPE=image/jpeg:https://xn--wirfrhchberg-9ib5f.de/wp-content/uploads/2026/04/WhatsApp-Image-2026-04-17-at-09.16.50.jpeg
END:VEVENT
END:VCALENDAR