BEGIN:VCALENDAR
VERSION:2.0
PRODID:-//Freiwilligenzentrum Markt H&ouml;chberg - ECPv6.15.20//NONSGML v1.0//EN
CALSCALE:GREGORIAN
METHOD:PUBLISH
X-ORIGINAL-URL:https://xn--wirfrhchberg-9ib5f.de
X-WR-CALDESC:Veranstaltungen für Freiwilligenzentrum Markt H&ouml;chberg
REFRESH-INTERVAL;VALUE=DURATION:PT1H
X-Robots-Tag:noindex
X-PUBLISHED-TTL:PT1H
BEGIN:VTIMEZONE
TZID:UTC
BEGIN:STANDARD
TZOFFSETFROM:+0000
TZOFFSETTO:+0000
TZNAME:UTC
DTSTART:20250101T000000
END:STANDARD
END:VTIMEZONE
BEGIN:VEVENT
DTSTART;TZID=UTC:20260523T100000
DTEND;TZID=UTC:20260523T160000
DTSTAMP:20260422T131552
CREATED:20260421T063915Z
LAST-MODIFIED:20260421T064443Z
UID:4497-1779530400-1779552000@xn--wirfrhchberg-9ib5f.de
SUMMARY:Eiserne H.O.S.E. - Tag der offenen Türe
DESCRIPTION:„Tag des Ehrenamts“ ist Tag der offenen Türe in der Eisernen H.O.S.E. – Höchbergs Ort für Soziales & Enagagement. \nBeratung in schwierigen Lebenslagen von der kommunalen Sozialarbeit und Beratung zu den Möglichkeiten im Ehrenamt in Höchberg über das Freiwilligenzentrum findet ihr im ersten Stock der Eisernen H.O.S.E. \nIm EG ist der Begegnungsraum mit der Möglichkeit für Engagement – Hier könnt ihr kreativ werden oder an coolen Angeboten teil nehmen.\nOb euer Verein einen Platz für Sitzungen sucht\, deine Trommelgruppe zu offenen Treffen einladen möchte\, oder du als Einzelperson zu einem DIY Nachmittag einladen willst\, hier gibt es unzählige Möglichkeiten. \nKomm gere vorbei und lass dich inspirieren.
URL:https://xn--wirfrhchberg-9ib5f.de/veranstaltungen/eiserne-h-o-s-e-tag-der-offenen-tuere/
LOCATION:Eiserne H.O.S.E.\, Eiserne Hose 2\, Höchberg\, 97204\, Germany
ATTACH;FMTTYPE=image/jpeg:https://xn--wirfrhchberg-9ib5f.de/wp-content/uploads/2026/04/WhatsApp-Image-2026-04-17-at-10.42.42.jpeg
END:VEVENT
END:VCALENDAR